BEGIN:VCALENDAR
VERSION:2.0
PRODID:-//eventon.com NONSGML v1.0//EN
CALSCALE:GREGORIAN
METHOD:PUBLISH
BEGIN:VEVENT
UID:69e9f0a90da64
DTSTAMP:20260423T101257
DTSTART:20250321T060000Z
DTEND:20250321T200000Z
TZID:UTC
LOCATION:
SUMMARY:Serve Teams Training!
DESCRIPTION:📢 Serve Teams Training – You’re Invited! 🙌🍽️ Hey Serve Teams! 🎉 Mark your calendars for an important Serve Teams Training on Sunday\,  April 6th at 11:45am! 🗓️✨ This is a time to refresh\,  refocus\,  and reignite our passion for serving! We’ll be covering overall Serve Teams trainingas well as[..]\nhttps://pneumalife.church/events/serve-teams-training/
URL:https://pneumalife.church/events/serve-teams-training/
END:VEVENT
END:VCALENDAR