BEGIN:VCALENDAR
VERSION:2.0
PRODID:-//eventon.com NONSGML v1.0//EN
CALSCALE:GREGORIAN
METHOD:PUBLISH
BEGIN:VEVENT
UID:69e4f0324cd8f
DTSTAMP:20260419T150938
DTSTART:20250209T100000Z
DTEND:20250209T113000Z
TZID:UTC
LOCATION:
SUMMARY:Built To Last - Relationship Series with Pastors Jason & Jessica Huffman
DESCRIPTION:Christ-centered approach to lasting relationships.&#8230;single\,  dating\,  engaged\,  and married! The best part is it&#8217;s for our GOOD but we have to be willing to discover what He says for us! Join Pastors Jason &amp; Jessica Huffman as they tag team preach on this topic that&#8217;s so important to society! The[..]\nhttps://pneumalife.church/events/the-love-blueprint-relationship-series-with-pastors-jason-jessica-huffman/
URL:https://pneumalife.church/events/the-love-blueprint-relationship-series-with-pastors-jason-jessica-huffman/
END:VEVENT
END:VCALENDAR