BEGIN:VCALENDAR
VERSION:2.0
PRODID:-//eventon.com NONSGML v1.0//EN
CALSCALE:GREGORIAN
METHOD:PUBLISH
BEGIN:VEVENT
UID:69e613f5773ae
DTSTAMP:20260420T115429
DTSTART:20241218T183000Z
DTEND:20241218T203000Z
TZID:UTC
LOCATION:
SUMMARY:Pneuma Yth Christmas Party!
DESCRIPTION:All middle and high school students are invited to celebrate Christmas\,  Pneuma Yth style! LOCATION: Pneuma Centra TIME: 6:30pm EMAIL: Noah@PneumaLife.Church\nhttps://pneumalife.church/events/pneuma-yth-christmas-party/
URL:https://pneumalife.church/events/pneuma-yth-christmas-party/
END:VEVENT
END:VCALENDAR