BEGIN:VCALENDAR
VERSION:2.0
PRODID:-//eventon.com NONSGML v1.0//EN
CALSCALE:GREGORIAN
METHOD:PUBLISH
BEGIN:VEVENT
UID:69eb3cda20582
DTSTAMP:20260424T095018
DTSTART:20241027T110000Z
DTEND:20241027T020000Z
TZID:UTC
LOCATION:
SUMMARY:Fall Outdoor Gathering!
DESCRIPTION:Sunday\,  October 27th | 11 AM &#8211; 2 PM Location: 4100 Race Track Rd\,  32259 (Durbin Creek Elementary Athletic Pavilion/Fields) Join us for a special Fall Outdoor Gathering  in place of our Sunday service! Bring your friends and family for an exciting day filled with fall fun\,  fellowship\,  and food.[..]\nhttps://pneumalife.church/events/fall-outdoor-gathering/
URL:https://pneumalife.church/events/fall-outdoor-gathering/
END:VEVENT
END:VCALENDAR