BEGIN:VCALENDAR
VERSION:2.0
PRODID:-//eventon.com NONSGML v1.0//EN
CALSCALE:GREGORIAN
METHOD:PUBLISH
BEGIN:VEVENT
UID:69e9f8f0af109
DTSTAMP:20260423T104816
DTSTART:20240820T180000Z
DTEND:20240820T200000Z
TZID:UTC
LOCATION:
SUMMARY:#GirlGang Bible Study
DESCRIPTION:&#8220;Emotionally Healthy Relationships&#8221; Bible Study\,  a women&#8217;s bi-weekly Bible study lead by Jessica Huffman and Katrina Abdullah. Click here to order workbook! *Childcare Provided*\nhttps://pneumalife.church/events/emotionally-healthy-relationships-bible-study/
URL:https://pneumalife.church/events/emotionally-healthy-relationships-bible-study/
END:VEVENT
END:VCALENDAR