BEGIN:VCALENDAR
VERSION:2.0
PRODID:-//eventon.com NONSGML v1.0//EN
CALSCALE:GREGORIAN
METHOD:PUBLISH
BEGIN:VEVENT
UID:69e9f9ed61dfb
DTSTAMP:20260423T105229
DTSTART:20240921T140000Z
DTEND:20240921T180000Z
TZID:UTC
LOCATION:
SUMMARY:All Nations Soccer League Fall Serve Event
DESCRIPTION:Come join us as we serve the All Nations Soccer League fall season! You can sign up here!\nhttps://pneumalife.church/events/all-nations-soccer-league-fall-serve-event/
URL:https://pneumalife.church/events/all-nations-soccer-league-fall-serve-event/
END:VEVENT
END:VCALENDAR