BEGIN:VCALENDAR
VERSION:2.0
PRODID:-//eventon.com NONSGML v1.0//EN
CALSCALE:GREGORIAN
METHOD:PUBLISH
BEGIN:VEVENT
UID:69e77ced13323
DTSTAMP:20260421T133437
DTSTART:20240817T080000Z
DTEND:20240817T091500Z
TZID:UTC
LOCATION:
SUMMARY:#GirlGang Walk-N-Pray with Jessica Torres
DESCRIPTION:#GirlGang Walk-N-Pray Summer Group Date: Bi-weekly on Saturdays Time: 8:00 AM Location: Veterans Park Host: Jessica Torres About the Event:Join us for our #GirlGang Walk-N-Pray Fall Group! Hosted bi-weekly on Saturdays at 8:00 AM at the serene Veterans Park\,  this event is the perfect way to get your steps in\, [..]\nhttps://pneumalife.church/events/girlgang-walk-n-pray-with-jessica-torres/
URL:https://pneumalife.church/events/girlgang-walk-n-pray-with-jessica-torres/
END:VEVENT
END:VCALENDAR