BEGIN:VCALENDAR
VERSION:2.0
PRODID:-//eventon.com NONSGML v1.0//EN
CALSCALE:GREGORIAN
METHOD:PUBLISH
BEGIN:VEVENT
UID:69e4eca20f64f
DTSTAMP:20260419T145426
DTSTART:20240604T083000Z
DTEND:20240608T123000Z
TZID:UTC
LOCATION:
SUMMARY:"Way 2 Win" All Nations Soccer Summer Camp Week 3
DESCRIPTION:Are you looking for some summer fun for your kids? All Nations Soccer League is holding indoor soccer camps through May and June! The price will be $250 per child with a 20% discount for each additional sibling. There will be drills\,  Bible activities and more! To learn more about[..]\nhttps://pneumalife.church/events/way-2-win-all-nations-soccer-summer-camp/var/ri-1.l-L1
URL:https://pneumalife.church/events/way-2-win-all-nations-soccer-summer-camp/var/ri-1.l-L1
END:VEVENT
END:VCALENDAR