BEGIN:VCALENDAR
VERSION:2.0
PRODID:-//eventon.com NONSGML v1.0//EN
CALSCALE:GREGORIAN
METHOD:PUBLISH
BEGIN:VEVENT
UID:69e4eb6f17d41
DTSTAMP:20260419T144919
DTSTART:20240331T100000Z
DTEND:20240331T235000Z
TZID:UTC
LOCATION:
SUMMARY:"Look to the Lamb" Easter Sunday at Pneuma Life Church
DESCRIPTION:Mark your calendars for our Easter Sunday Service\,  “Look to the Lamb” happening right here at Pneuma Life Church on Sunday\,  March 31st at 10 AM. There will be an Easter egg hunt for Pneuma kids\,  special food after service\,  music and a hope filled Easter message. Invite your family[..]\nhttps://pneumalife.church/events/look-to-the-lamb-easter-sunday-at-pneuma-life-church/
URL:https://pneumalife.church/events/look-to-the-lamb-easter-sunday-at-pneuma-life-church/
END:VEVENT
END:VCALENDAR