BEGIN:VCALENDAR
VERSION:2.0
PRODID:-//eventon.com NONSGML v1.0//EN
CALSCALE:GREGORIAN
METHOD:PUBLISH
BEGIN:VEVENT
UID:69e9f030d09d0
DTSTAMP:20260423T101056
DTSTART:20240212
DTEND:20240213
TZID:UTC
LOCATION:
SUMMARY:Springs Groups Launch
DESCRIPTION:Springs Groups Launch\nhttps://pneumalife.church/events/springs-groups-launch/
URL:https://pneumalife.church/events/springs-groups-launch/
END:VEVENT
END:VCALENDAR