BEGIN:VCALENDAR
VERSION:2.0
PRODID:-//eventon.com NONSGML v1.0//EN
CALSCALE:GREGORIAN
METHOD:PUBLISH
BEGIN:VEVENT
UID:69e9f25d64735
DTSTAMP:20260423T102013
DTSTART:20240103T183000Z
DTEND:20240103T203000Z
TZID:UTC
LOCATION:
SUMMARY:P252 Student Gathering
DESCRIPTION:Middle &amp; High School students are welcome to join us for our student gathering from 6:30 to 8:30 PM at Pneuma Central every Wednesday!\nhttps://pneumalife.church/events/p252-student-gathering-10/
URL:https://pneumalife.church/events/p252-student-gathering-10/
END:VEVENT
END:VCALENDAR