BEGIN:VCALENDAR
VERSION:2.0
PRODID:-//eventon.com NONSGML v1.0//EN
CALSCALE:GREGORIAN
METHOD:PUBLISH
BEGIN:VEVENT
UID:69e641ffef4cf
DTSTAMP:20260420T151055
DTSTART:20240228
DTEND:20240229
TZID:UTC
LOCATION:
SUMMARY:Durbin Donate
DESCRIPTION:The last Sunday of each month is our “DURBIN DONATE” Sunday! Help fill the shelves of Durbin Elementary school with food for students and families in need right here in our community. You can either buy foods from the list below or donate any amount. DONATE MONEY HERE!\nhttps://pneumalife.church/events/durbin-donate/var/ri-1.l-L1
URL:https://pneumalife.church/events/durbin-donate/var/ri-1.l-L1
END:VEVENT
END:VCALENDAR