BEGIN:VCALENDAR
VERSION:2.0
PRODID:-//eventon.com NONSGML v1.0//EN
CALSCALE:GREGORIAN
METHOD:PUBLISH
BEGIN:VEVENT
UID:69e4f3963f24c
DTSTAMP:20260419T152406
DTSTART:20230217T100000Z
DTEND:20230217T120000Z
TZID:UTC
LOCATION:
SUMMARY:Women's Bible Study with Ellae Maisch
DESCRIPTION:Ladies\,  you&#8217;re invited to a study centered around the Bible entitled\,  &#8220;The Book of Philippians&#8221;! Additionally\,  the group includes prayer\,  accountability\,  and support from other women who are in a similar season of life! Questions? Please email Groups@PneumaLife.Church! **Childcare is provided\nhttps://pneumalife.church/events/womens-bible-study-with-ellae-maisch/
URL:https://pneumalife.church/events/womens-bible-study-with-ellae-maisch/
END:VEVENT
END:VCALENDAR