BEGIN:VCALENDAR
VERSION:2.0
PRODID:-//eventon.com NONSGML v1.0//EN
CALSCALE:GREGORIAN
METHOD:PUBLISH
BEGIN:VEVENT
UID:69e944e985c40
DTSTAMP:20260422T220009
DTSTART:20221206T180000Z
DTEND:20221206T210000Z
TZID:UTC
LOCATION:
SUMMARY:Serve Team Christmas Party
DESCRIPTION:If you serve at Pneuma in any capacity\,  we want to celebrate YOU! Join us for our annual Serve Team Christmas Party at Bravoz Entertainment Center! There will be unlimited access to bouncing and obstacle courses\,  laser tag\,  a hot chocolate bar and food available for purchase! Invite your family\, [..]\nhttps://pneumalife.church/events/serve-team-christmas-party-2/
URL:https://pneumalife.church/events/serve-team-christmas-party-2/
END:VEVENT
END:VCALENDAR