BEGIN:VCALENDAR
VERSION:2.0
PRODID:-//eventon.com NONSGML v1.0//EN
CALSCALE:GREGORIAN
METHOD:PUBLISH
BEGIN:VEVENT
UID:69e9f0853876c
DTSTAMP:20260423T101221
DTSTART:20220212T080000Z
DTEND:20220212T100000Z
TZID:UTC
LOCATION:
SUMMARY:Watchmen GROW Group
DESCRIPTION:A men&#8217;s GROW group lead by Brian Edgerton and Andy Bourke meeting bi-weekly on Saturdays at 8 AM. Addresses will change based on meeting week and will be announced the week of. For more information\,  email us at groups@pneumalife.church.\nhttps://pneumalife.church/events/watchmen-grow-group-3/
URL:https://pneumalife.church/events/watchmen-grow-group-3/
END:VEVENT
END:VCALENDAR