BEGIN:VCALENDAR
VERSION:2.0
PRODID:-//eventon.com NONSGML v1.0//EN
CALSCALE:GREGORIAN
METHOD:PUBLISH
BEGIN:VEVENT
UID:69ed628b9de4f
DTSTAMP:20260426T005539
DTSTART:20220209T180000Z
DTEND:20220209T200000Z
TZID:UTC
LOCATION:
SUMMARY:Men's Group: New Testament Study
DESCRIPTION:A men&#8217;s Bible study lead by Rafael Torres and Jose Medina held weekly on Wednesdays at 6 PM at Pneuma Offices. For more information\,  email us at groups@pneumalife.church.\nhttps://pneumalife.church/events/mens-group-new-testament-study/
URL:https://pneumalife.church/events/mens-group-new-testament-study/
END:VEVENT
END:VCALENDAR