BEGIN:VCALENDAR
VERSION:2.0
PRODID:-//eventon.com NONSGML v1.0//EN
CALSCALE:GREGORIAN
METHOD:PUBLISH
BEGIN:VEVENT
UID:69e602e945773
DTSTAMP:20260420T104145
DTSTART:20210918T160000Z
DTEND:20210918T235000Z
TZID:UTC
LOCATION:
SUMMARY:Sparrow Soccer (All Nations Soccer League)
DESCRIPTION:Cheer on our sponsored team\,  Sparrow Soccer\,  as they compete in the All Nations Soccer League. GAME 2 vs. Sporting St. Augustine (Field 1) You can learn more about ANSL here: https://www.allnationssoccerleague.com\nhttps://pneumalife.church/events/sparrow-soccer-all-nations-soccer-league/
URL:https://pneumalife.church/events/sparrow-soccer-all-nations-soccer-league/
END:VEVENT
END:VCALENDAR