BEGIN:VCALENDAR
VERSION:2.0
PRODID:-//eventon.com NONSGML v1.0//EN
CALSCALE:GREGORIAN
METHOD:PUBLISH
BEGIN:VEVENT
UID:69e846e35a1cd
DTSTAMP:20260422T035619
DTSTART:20210817T183000Z
DTEND:20210817T235000Z
TZID:UTC
LOCATION:
SUMMARY:Watchmen GROW Group
DESCRIPTION:Men&#8217;s GROW Study of the &#8220;Heroes of The Faith&#8221; led by Bill Sipe *Childcare provided For more information\,  email groups@pneumalife.church\nhttps://pneumalife.church/events/watchmen-grow-group-2/
URL:https://pneumalife.church/events/watchmen-grow-group-2/
END:VEVENT
END:VCALENDAR