BEGIN:VCALENDAR
VERSION:2.0
PRODID:-//eventon.com NONSGML v1.0//EN
CALSCALE:GREGORIAN
METHOD:PUBLISH
BEGIN:VEVENT
UID:69e9f08983ae6
DTSTAMP:20260423T101225
DTSTART:20210109T100000Z
DTEND:20210109T120000Z
TZID:UTC
LOCATION:
SUMMARY:#GirlGang 2021 Goal Setting Workshop
DESCRIPTION:Join Pastor Jessica and Coach Jennifer Henry for &#8220;The 5 Year Exercise\, &#8221;; creative journaling\,  goal planning workshop. Bring your own journal. Coffee will be provided.\nhttps://pneumalife.church/events/girlgang-2021-goal-setting-workshop/
URL:https://pneumalife.church/events/girlgang-2021-goal-setting-workshop/
END:VEVENT
END:VCALENDAR