BEGIN:VCALENDAR
VERSION:2.0
PRODID:-//eventon.com NONSGML v1.0//EN
CALSCALE:GREGORIAN
METHOD:PUBLISH
BEGIN:VEVENT
UID:69e9142289bff
DTSTAMP:20260422T183202
DTSTART:20210222T190000Z
DTEND:20210222T235000Z
TZID:UTC
LOCATION:
SUMMARY:Financial Peace University (Co-Ed)
DESCRIPTION:Financial Peace University led by Heather Donovan &amp; D&#8217;Arcy Vaughn. This is an online group via Zoom. *Registration Required. There is a fee for this group. FPU class sign up link fpu.com/1133702 For more information email groups@pneumalife.church\nhttps://pneumalife.church/events/financial-peace-university/var/ri-2.l-L1
URL:https://pneumalife.church/events/financial-peace-university/var/ri-2.l-L1
END:VEVENT
END:VCALENDAR